Workbook
Name _____10: #REF!
Name _____10: #REF!
Name _____11: #REF!
Name _____11: #REF!
Name _____6: #REF!
Name _____6: #REF!
Name _____7: #REF!
Name _____7: #REF!
Name _____8: #REF!
Name _____8: #REF!
Name _____9: #REF!
Name _____9: #REF!
Name ____10: #REF!
Name ____10: #REF!
Name ____11: #REF!
Name ____11: #REF!
Name ____6: #REF!
Name ____6: #REF!
Name ____7: #REF!
Name ____7: #REF!
Name ____8: #REF!
Name ____8: #REF!
Name ____9: #REF!
Name ____9: #REF!
Name ____C: #REF!
Name ____C: #REF!
Name ____px1: #REF!
Name ____px1: #REF!
Name ____px2: #REF!
Name ____px2: #REF!
Name ____stp1: #REF!
Name ____stp1: #REF!
Name ____stp10: #REF!
Name ____stp10: #REF!
Name ____stp100: #REF!
Name ____stp100: #REF!
Name ____stp101: #REF!
Name ____stp101: #REF!
Name ____stp102: #REF!
Name ____stp102: #REF!
Name ____stp103: #REF!
Name ____stp103: #REF!
Name ____stp104: #REF!
Name ____stp104: #REF!
Name ____stp105: #REF!
Name ____stp105: #REF!
Name ____stp106: #REF!
Name ____stp106: #REF!
Name ____stp107: #REF!
Name ____stp107: #REF!
Name ____stp108: #REF!
Name ____stp108: #REF!
Name ____stp109: #REF!
Name ____stp109: #REF!
Name ____stp11: #REF!
Name ____stp11: #REF!
Name ____stp110: #REF!
Name ____stp110: #REF!
Name ____stp111: #REF!
Name ____stp111: #REF!

Sheet 사업승인신청사업비
A1: 1. 사업비/자금계획
O2: VAT포함 | T2: VAT포함
A3: 구분 (합계) | C3: 사업비(천원) | E3: 자금계획(천원) | H3: 연면적비율 | J3: ㎡ | K3: % | M3: 매출 비율 | O3: 천원 | P3: % | S3: 금액(천원) | T3: 평
A4: 전체 면적 | B4: 0 | C4: 대지비 | D4: =80000000*0.62 -> 49600000 | E4: 사업주체자금 | F4: =7000000*0.62 -> 4340000 | H4: 전체 | J4: 168489.81 | K4: =J4/$J$4 -> 1 | M4: 전체 | O4: =SUM(O6:O18) -> 4.3675472e+08 | P4: =O4/$O$4 -> 1 | R4: 소방포함공사비 | S4: =S5+S6 -> 2.4585093e+08
C5: 주택건축비 | D5: =S4 - D6 -> 2.3872272e+08 | E5: 국민주택자금 | H5: 아파트 | J5: =SUM(J6:J17) -> 167875.17 | K5: =J5/$J$4 -> 0.99635207 | M5: 아파트 | O5: =SUM(O6:O17) -> 4.3396699e+08 | P5: =O5/$O$4 -> 0.99361717 | R5: 소방제외공사비 | S5: 2.3791556e+08
B6: =B14+B22 -> 168489.81 | C6: 부대복리시설설치비 | D6: =S4 * (S9 / S8 ) -> 7128204.1 | E6: 금융기관자금 | F6: 82000000 | I6: 84A | J6: 78381.289 | K6: =J6/$J$4 -> 0.46519899 | N6: =I6 -> 84A | O6: 2.0438828e+08 | P6: =O6/$O$4 -> 0.4679704 | R6: 소방공사비 | S6: =12798979.052*0.62 -> 7935367
C7: 간선시설설치비 | D7: =30000000*0.62 -> 18600000 | E7: 그 밖의 자금 | F7: =F10-F6-F4 -> 3.5041472e+08 | I7: 84B | J7: 64811.87 | K7: =J7/$J$4 -> 0.38466345 | N7: =I7 -> 84B | O7: 1.6901608e+08 | P7: =O7/$O$4 -> 0.3869817 | S7: M2 | T7: 평
A8: 세대수 | B8: 970 | C8: 소계 | D8: =SUM(D4:D7) -> 3.1405093e+08 | I8: 109 | J8: 23645.369 | K8: =J8/$J$4 -> 0.14033709 | N8: =I8 -> 109 | O8: 56814821 | P8: =O8/$O$4 -> 0.13008405 | R8: 연면적 | S8: =B6 -> 168489.81 | T8: =B6 / 3.3058 -> 50967.937
A9: 전용면적 | C9: 일반분양비 | D9: =D10-D8 -> 1.2270379e+08 | I9: 130 | J9: 1036.64 | K9: =J9/$J$4 -> 0.0061525383 | N9: =I9 -> 130 | O9: 3747803.1 | P9: =O9/$O$4 -> 0.0085810248 | R9: 부대복리연면적 | S9: 4885.1951 | T9: =S9/3.3058 -> 1477.7649
C10: 사업비계 | D10: =O4 -> 4.3675472e+08 | E10: 자금계획계 | F10: =D10 -> 4.3675472e+08 | K10: =J10/$J$4 -> 0 | N10: =I10 -> 0 | P10: =O10/$O$4 -> 0
A11: 아파트 | C11: 사업비(천원) | E11: 자금계획(천원) | I11: - | K11: =J11/$J$4 -> 0 | N11: =I11 -> - | P11: =O11/$O$4 -> 0
A12: 전체 면적 | B12: 0 | C12: 대지비 | D12: =D29+D38+D47+D65+D74+D56+D83+D92+D101+D110+D119 -> 49419063 | E12: 사업주체자금 | F12: =F29+F38+F47+F65+F74+F56+F83+F92+F101+F110+F119 -> 4324168 | K12: =J12/$J$4 -> 0 | N12: =I12 -> 0 | P12: =O12/$O$4 -> 0 | R12: =J4=J5+J18 -> TRUE
C13: 주택건축비 | D13: =D30+D39+D48+D66+D75+D57+D84+D93+D102+D111+D120 -> 2.3785188e+08 | E13: 국민주택자금 | F13: =F30+F39+F48+F66+F75+F57+F84+F93+F102+F111+F120 -> 0 | K13: =J13/$J$4 -> 0 | N13: =I13 -> 0 | P13: =O13/$O$4 -> 0
B14: =J5 -> 167875.17 | C14: 부대복리시설설치비 | D14: =D31+D40+D49+D67+D76+D58+D85+D94+D103+D112+D121 -> 7102200.9 | E14: 금융기관자금 | F14: =F31+F40+F49+F67+F76+F58+F85+F94+F103+F112+F121 -> 81700870 | K14: =J14/$J$4 -> 0 | N14: =I14 -> 0 | P14: =O14/$O$4 -> 0
C15: 간선시설설치비 | D15: =D32+D41+D50+D68+D77+D59+D86+D95+D104+D113+D122 -> 18532148 | E15: 그 밖의 자금 | F15: =F32+F41+F50+F68+F77+F59+F86+F95+F104+F113+F122 -> 3.4913643e+08 | K15: =J15/$J$4 -> 0 | N15: =I15 -> 0 | P15: =O15/$O$4 -> 0
A16: 세대수 | B16: =B33+B42+B51+B69+B78+B60+B87+B96+B105+B114+B123 -> 970 | C16: 소계 | D16: =SUM(D12:D15) -> 3.1290529e+08 | K16: =J16/$J$4 -> 0 | N16: =I16 -> 0 | P16: =O16/$O$4 -> 0
A17: 전용면적 | C17: 일반분양비 | D17: =D34+D43+D52+D70+D79+D61+D88+D97+D106+D115+D124 -> 1.2225618e+08 | K17: =J17/$J$4 -> 0 | P17: =O17/$O$4 -> 0
C18: 사업비계 | D18: =D16+D17 -> 4.3516147e+08 | E18: 자금계획계 | F18: =SUM(F12:F17) -> 4.3516147e+08 | H18: 상가 | J18: =J4-SUM(J6:J17) -> 614.6392 | K18: =J18/$J$4 -> 0.003647931 | M18: 상가 | O18: 2787731.6 | P18: =O18/$O$4 -> 0.006382831
A19: 상가 | C19: 사업비(천원) | E19: 자금계획(천원)
A20: 전체 면적 | B20: 0 | C20: 대지비 | D20: =D4*$K$18 -> 180937.38 | E20: 사업주체자금 | F20: =F4*$K$18 -> 15832.021 | J20: =D4=(D12+D20) -> TRUE | K20: =F4=(F12+F20) -> TRUE
C21: 주택건축비 | D21: =D5*$K$18 -> 870844.03 | E21: 국민주택자금 | F21: =F5*$K$18 -> 0 | J21: =D5=(D13+D21) -> TRUE | K21: =F5=(F13+F21) -> TRUE
B22: =J18 -> 614.6392 | C22: 부대복리시설설치비 | D22: =D6*$K$18 -> 26003.197 | E22: 금융기관자금 | F22: =F6*$K$18 -> 299130.35 | J22: =D6=(D14+D22) -> TRUE | K22: =F6=(F14+F22) -> TRUE
C23: 간선시설설치비 | D23: =D7*$K$18 -> 67851.517 | E23: 그 밖의 자금 | F23: =F7*$K$18 -> 1278288.7 | J23: =D7=(D15+D23) -> TRUE | K23: =F7=(F15+F23) -> TRUE
A24: 세대수 | B24: 0 | C24: 소계 | D24: =SUM(D20:D23) -> 1145636.1 | J24: =D8=(D16+D24) -> TRUE | K24: =F8=(F16+F24) -> TRUE
A25: 전용면적 | C25: 일반분양비 | D25: =D9*$K$18 -> 447614.98 | J25: =D9=(D17+D25) -> TRUE | K25: =F9=(F17+F25) -> TRUE
C26: 사업비계 | D26: =D24+D25 -> 1593251.1 | E26: 자금계획계 | F26: =SUM(F20:F25) -> 1593251.1 | J26: =D10=(D18+D26) -> TRUE | K26: =F10=(F18+F26) -> TRUE
A28: 구분 | C28: 사업비(천원) | E28: 자금계획(천원)
A29: 전체 면적 | B29: =I6 -> 84A | C29: 대지비 | D29: =D4*$K$6 -> 23073870 | E29: 사업주체자금 | F29: =F4*$K$6 -> 2018963.6
C30: 주택건축비 | D30: =D5*$K$6 -> 1.1105357e+08 | E30: 국민주택자금 | F30: =F5*$K$6 -> 0
B31: =J6 -> 78381.289 | C31: 부대복리시설설치비 | D31: =D6*$K$6 -> 3316033.4 | E31: 금융기관자금 | F31: =F6*$K$6 -> 38146318
C32: 간선시설설치비 | D32: =D7*$K$6 -> 8652701.3 | E32: 그 밖의 자금 | F32: =F7*$K$6 -> 1.6301257e+08
A33: 세대수 | B33: 470 | C33: 소계 | D33: =D8*$K$6 -> 1.4609617e+08
A34: 전용면적 | C34: 일반분양비 | D34: =D9*$K$6 -> 57081681
C35: 사업비계 | D35: =D33+D34 -> 2.0317786e+08 | E35: 자금계획계 | F35: =SUM(F29:F34) -> 2.0317786e+08
A37: 구분 | C37: 사업비(천원) | E37: 자금계획(천원)
A38: 전체 면적 | B38: =I7 -> 84B | C38: 대지비 | D38: =D4*$K$7 -> 19079307 | E38: 사업주체자금 | F38: =F4*$K$7 -> 1669439.4
C39: 주택건축비 | D39: =D5*$K$7 -> 91827905 | E39: 국민주택자금 | F39: =F5*$K$7 -> 0
B40: =J7 -> 64811.87 | C40: 부대복리시설설치비 | D40: =D6*$K$7 -> 2741959.6 | E40: 금융기관자금 | F40: =F6*$K$7 -> 31542403
C41: 간선시설설치비 | D41: =D7*$K$7 -> 7154740.1 | E41: 그 밖의 자금 | F41: =F7*$K$7 -> 1.3479173e+08
A42: 세대수 | B42: 386 | C42: 소계 | D42: =D8*$K$7 -> 1.2080391e+08
...

Sheet 총사업비산출총괄표
A1: 원주시 단구동 공동주택 총사업비 산출 총괄표
I2: (단위 : 천원) | K2: 순공사비 비율 | M2: 총공사비 비율
A3: 구 분 | D3: 전체 | E3: 감리대상(건축) | F3: 감리대상(전기) | G3: 감리대상(소방) | H3: 감리제외 | I3: 타법감리 | K3: 소방포함 | L3: 소방제외 | M3: 소방포함 | N3: 소방제외
A4: 총 공 사 비 | B4: 순 공 사 비 | C4: 건축공사 | D4: =ROUND($D$13*M4,0) -> 143369990 | E4: =D4 -> 143369990 | K4: 0.66042834 | M4: =K4*$M$10 -> 0.58315823 | N4: =L4*0.9 -> 0
C5: 토목공사 | D5: =ROUND($D$13*M5,0) -> 20777357 | E5: =D5 -> 20777357 | K5: 0.095710093 | M5: =K5*$M$10 -> 0.084512012 | N5: =L5*0.9 -> 0
C6: 기계설비공사 | D6: =ROUND($D$13*M6,0) -> 21891385 | E6: =D6 -> 21891385 | K6: 0.10084182 | M6: =K6*$M$10 -> 0.089043329 | N6: =L6*0.9 -> 0
C7: 전기공사 | D7: =ROUND($D$13*M7,0) -> 14616082 | F7: 14616082 | K7: =9.63284207975879% - K8 -> 0.067328421 | M7: =K7*$M$10 -> 0.059450996 | N7: =L7*0.9 -> 0
C8: 정보통신공사 | D8: =ROUND($D$13*M8,0) -> 6295505 | I8: 6295505 | K8: 0.029 | M8: =K8*$M$10 -> 0.025607 | N8: =L8*0.9 -> 0
C9: 소방설비공사 | D9: =ROUND($D$13*M9,0) -> 10136050 | G9: =D9 -> 10136050 | K9: 0.046691322 | M9: =K9*$M$10 -> 0.041228437 | N9: =L9*0.9 -> 0
B10: 소 계 | D10: =D13-D12-D11 -> 2.1708637e+08 | E10: =SUM(E4:E9) -> 186038732 | F10: =SUM(F4:F9) -> 14616082 | G10: =SUM(G4:G9) -> 10136050 | H10: =SUM(H4:H9) -> 0 | I10: =SUM(I4:I9) -> 6295505 | K10: 1 | L10: 1 | M10: =1-M11-M12 -> 0.883 | N10: =SUM(N4:N9) -> 0
B11: 일반관리비 | D11: =ROUND($D$13*M11,0) -> 10866611 | E11: =ROUND($D$11*E10/$D$10,0) -> 9312471 | F11: =ROUND($D$11*F10/$D$10,0) -> 731632 | G11: =ROUND($D$11*G10/$D$10,0) -> 507376 | I11: =ROUND($D$11*I10/$D$10,0) -> 315132 | M11: 0.0442 | N11: 0.03
B12: 이 윤 | D12: =ROUND($D$13*M12,0) -> 17897947 | E12: =ROUND($D$12*E10/$D$10,0) -> 15338187 | F12: =ROUND($D$12*F10/$D$10,0) -> 1205040 | G12: =ROUND($D$12*G10/$D$10,0) -> 835679 | I12: =ROUND($D$12*I10/$D$10,0) -> 519040 | M12: 0.0728 | N12: 0.07
A13: 소 계 | D13: =사업승인신청사업비!D5 + 사업승인신청사업비!D6 -> 2.4585093e+08 | E13: =SUM(E10:E12) -> 210689390 | F13: =SUM(F10:F12) -> 16552754 | G13: =SUM(G10:G12) -> 11479105 | H13: =SUM(H10:H12) -> 0 | I13: =SUM(I10:I12) -> 7129677 | M13: =SUM(M10:M12) -> 1
A14: 간 | B14: 설계비 | D14: 2858100 | H14: =D14 -> 2858100
B15: 감리비 | D15: 5716200 | H15: =D15 -> 5716200
A16: 접 | B16: 일반분양시설경비 | D16: 16089939 | H16: =D16 -> 16089939
B17: 분담금 및 부담금 | D17: 7420374 | H17: =D17 -> 7420374
A18: 비 | B18: 보상비 | D18: 0 | H18: =D18 -> 0
B19: 기타 사업비성 경비 | D19: =D20-SUM(D14:D18) -> 1.0363083e+08 | H19: =D19 -> 1.0363083e+08
A20: 소 계 | D20: =D23-D22-D21-D13 -> 1.3571544e+08 | H20: =D20 -> 1.3571544e+08
A21: 대 지 비 | D21: =사업승인신청사업비!D4 -> 49600000 | H21: =D21 -> 49600000
A22: 부가가치세액 | D22: 5588354 | H22: =D22 -> 5588354
A23: 총사업비 계 | D23: =사업승인신청사업비!D10 -> 4.3675472e+08 | E23: =SUM(E13,E20,E21,E22) -> 210689390 | F23: =SUM(F13,F20,F21,F22) -> 16552754 | G23: =SUM(G13,G20,G21,G22) -> 11479105 | H23: =SUM(H13,H20,H21,H22) -> 1.9090379e+08 | I23: =SUM(I13,I20,I21,I22) -> 7129677

Sheet 공종별현황표(전기)
A1: 공종별 총공사비 구성 현황표(전기)
G2: (단위:천원)
A3: 구 분 | D3: 전 체 | E3: 감리대상 | F3: 감리제외 | G3: 타법감리 | I3: ~'22 | J3: '23~
A4: 순공사비 | B4: 전기공사 | C4: 전기인입공사 | D4: 281493 | E4: =D4 -> 281493 | I4: 0.089999988 | J4: 0.019259126
C5: 수배전공사 | D5: 1568238 | E5: =D5 -> 1568238 | I5: 0.12999992 | J5: 0.10729539
C6: 변압기설치공사 | D6: 1044128 | E6: =D6 -> 1044128 | I6: 0.099999949 | J6: 0.071436916
C7: 발전기설치공사 | D7: 589625 | E7: =D7 -> 589625 | I7: 0.010000045 | J7: 0.040340825
C8: 동력설비공사 | D8: 1389875 | E8: =D8 -> 1389875 | I8: 0.010000045 | J8: 0.095092159
C9: 배관배선공사 | D9: 3042133 | E9: =D9 -> 3042133 | I9: 0.070000066 | J9: 0.20813604
C10: 전등설치공사 | D10: 3268720 | E10: =D10 -> 3268720 | I10: 0.15999997 | J10: 0.22363858
C11: 전열설치공사 | D11: 1389875 | E11: =D11 -> 1389875 | I11: 0.25000013 | J11: 0.095092159
C12: 전력간선공사 | D12: 1404745 | E12: =D12 -> 1404745 | I12: 0.029999968 | J12: 0.096109522
C13: Cable Tray공사 | D13: 50584 | E13: =D13 -> 50584 | I13: 0.019999923 | J13: 0.0034608536
C14: Race Way공사 | D14: 76228 | E14: =D14 -> 76228 | I14: 0.010000045 | J14: 0.0052153813
C15: 부스덕트공사 | D15: 31527 | E15: =D15 -> 31527 | I15: 0.050000059 | J15: 0.0021570083
C16: 보안등설치공사 | D16: 250197 | E16: =D16 -> 250197 | I16: 0.019999923 | J16: 0.01711791
... C18: 피뢰침공사 | D18: 103063 | E18: =D18 -> 103063 | I18: 0.01000013 | J18: 0.0070513476
C19: 소 계 | D19: =총사업비산출총괄표!D7 -> 14616082 | E19: =SUM(E4:E18) -> 14616082 | I19: 1 | J19: =SUM(J4:J18) -> 1
B20: 건축공사 | D20: =총사업비산출총괄표!D4 -> 143369990 | G20: =D20 -> 143369990
B21: 토목공사 | D21: =총사업비산출총괄표!D5 -> 20777357 | G21: =D21 -> 20777357
B22: 기계설비공사 | D22: =총사업비산출총괄표!D6 -> 21891385 | G22: =D22 -> 21891385
B23: 정보통신공사 | D23: =총사업비산출총괄표!D8 -> 6295505 | G23: =D23 -> 6295505
B24: 소방설비공사 | D24: =총사업비산출총괄표!D9 -> 10136050 | G24: =D24 -> 10136050
B25: 소 계 | D25: =D28-D27-D26 -> 2.1708637e+08 | E25: =SUM(E19:E24) -> 14616082 | G25: =SUM(G19:G24) -> 202470287
A26: 일반관리비 | D26: =총사업비산출총괄표!D11 -> 10866611 | E26: =총사업비산출총괄표!F11 -> 731632 | G26: =D26-E26 -> 10134979
A27: 이 윤 | D27: =총사업비산출총괄표!D12 -> 17897947 | E27: =총사업비산출총괄표!F12 -> 1205040 | G27: =D27-E27 -> 16692907
A28: 소 계 | D28: =총사업비산출총괄표!D13 -> 2.4585093e+08 | E28: =SUM(E25:E27) -> 16552754 | G28: =SUM(G25:G27) -> 229298173

Sheet 감리자 배치계획
A1: 예정공정표 (개략-BarChart)
A3: 현장명 : | C3: 원주자이 센트로 신축공사
A4: (전체)공사기간 : | C4: 2023. 06. 15 ~ 2026. 05. 15 (35개월)
A5: (전기)공사기간 : | C5: 2023. 11. 15 ~ 2026. 05. 15 (30개월)
A6: 구 분 | B6: 년 | C6: 2023년 | AM6: 2024년 | CI6: 2025년 | EE6: 2026년 | EY6: 비 고
B7: 월 | C7: 4 | G7: 5 | K7: 6 | O7: 7 | S7: 8 | W7: 9 | AA7: 10 | AE7: 11 | AI7: 12 | AM7: 1 | AQ7: 2 | AU7: 3 | AY7: 4 | BC7: 5 | BG7: 6 | BK7: 7 | BO7: 8 | BS7: 9 | BW7: 10 | CA7: 11 | CE7: 12 | CI7: 1 | CM7: 2 | CQ7: 3 | CU7: 4 | CY7: 5 | DC7: 6 | DG7: 7 | DK7: 8 | DO7: 9 | DS7: 10 | DW7: 11 | EA7: 12 | EE7: 1 | EI7: 2 | EM7: 3 | EQ7: 4 | EU7: 5
B8: 개월 | C8: D-1 | G8: D+0 | K8: 1 | O8: =K8+1 -> 2 | S8: =O8+1 -> 3 | W8: =S8+1 -> 4 | AA8: =W8+1 -> 5 | AE8: =AA8+1 -> 6 | AI8: =AE8+1 -> 7 | AM8: =AI8+1 -> 8 | AQ8: =AM8+1 -> 9 | AU8: =AQ8+1 -> 10 | AY8: =AU8+1 -> 11 | BC8: =AY8+1 -> 12 | BG8: =BC8+1 -> 13 | BK8: =BG8+1 -> 14 | BO8: =BK8+1 -> 15 | BS8: =BO8+1 -> 16 | BW8: =BS8+1 -> 17 | CA8: =BW8+1 -> 18 | CE8: =CA8+1 -> 19 | CI8: =CE8+1 -> 20 | CM8: =CI8+1 -> 21 | CQ8: =CM8+1 -> 22 | CU8: =CQ8+1 -> 23 | CY8: =CU8+1 -> 24 | DC8: =CY8+1 -> 25 | DG8: =DC8+1 -> 26 | DK8: =DG8+1 -> 27 | DO8: =DK8+1 -> 28 | DS8: =DO8+1 -> 29 | DW8: =DS8+1 -> 30 | EA8: =DW8+1 -> 31 | EE8: =EA8+1 -> 32 | EI8: =EE8+1 -> 33 | EM8: =EI8+1 -> 34 | EQ8: =EM8+1 -> 35 | EU8: =EQ8+1 -> 36
A9: 전체 | EY9: 23.06.15 ~
O10: 1.5 | S10: =O10+1 -> 2.5 | W10: =S10+1 -> 3.5 | AA10: =W10+1 -> 4.5 | AE10: =AA10+1 -> 5.5 | AI10: =AE10+1 -> 6.5 | AM10: =AI10+1 -> 7.5 | AQ10: =AM10+1 -> 8.5 | AU10: =AQ10+1 -> 9.5 | AY10: =AU10+1 -> 10.5 | BC10: =AY10+1 -> 11.5 | BG10: =BC10+1 -> 12.5 | BK10: =BG10+1 -> 13.5 | BO10: =BK10+1 -> 14.5 | BS10: =BO10+1 -> 15.5 | BW10: =BS10+1 -> 16.5 | CA10: =BW10+1 -> 17.5 | CE10: =CA10+1 -> 18.5 | CI10: =CE10+1 -> 19.5 | CM10: =CI10+1 -> 20.5 | CQ10: =CM10+1 -> 21.5 | CU10: =CQ10+1 -> 22.5 | CY10: =CU10+1 -> 23.5 | DC10: =CY10+1 -> 24.5 | DG10: =DC10+1 -> 25.5 | DK10: =DG10+1 -> 26.5 | DO10: =DK10+1 -> 27.5 | DS10: =DO10+1 -> 28.5 | DW10: =DS10+1 -> 29.5 | EA10: =DW10+1 -> 30.5 | EE10: =EA10+1 -> 31.5 | EI10: =EE10+1 -> 32.5 | EM10: =EI10+1 -> 33.5 | EQ10: =EM10+1 -> 34.5 | EY10: 26.05.15
EY11: (35개월)
A12: 토목 | EY12: 23.06.15~23.12.15
O13: 1.5 | S13: =O13+1 -> 2.5 | W13: =S13+1 -> 3.5 | AA13: =W13+1 -> 4.5 | AG13: 5.5 | BG13: 7.5 | CI13: 9 | CM13: 10 | CQ13: =CM13+1 -> 11 | DG13: 13 | DK13: =DG13+1 -> 14 | DO13: =DK13+1 -> 15 | DS13: =DO13+1 -> 16 | DW13: =DS13+1 -> 17 | EA13: =DW13+1 -> 18 | EE13: =EA13+1 -> 19 | EI13: =EE13+1 -> 20 | EM13: =EI13+1 -> 21 | EQ13: =EM13+1 -> 22 | EY13: 25.06.15~26.05.15
EY14: (22.5개월)
A15: 지정공사 | EY15: 23.11.15~
AM16: 2.5 | EY16: 24.02.15
EY17: (3.0개월)
A18: 골조 공사 | EY18: 23.12.15~
AM19: 1.5 | AQ19: =AM19+1 -> 2.5 | AU19: =AQ19+1 -> 3.5 | AY19: =AU19+1 -> 4.5 | BC19: =AY19+1 -> 5.5 | BG19: =BC19+1 -> 6.5 | BK19: =BG19+1 -> 7.5 | BO19: =BK19+1 -> 8.5 | BS19: =BO19+1 -> 9.5 | BW19: =BS19+1 -> 10.5 | CA19: =BW19+1 -> 11.5 | CE19: =CA19+1 -> 12.5 | CI19: =CE19+1 -> 13.5 | CM19: =CI19+1 -> 14.5 | CQ19: =CM19+1 -> 15.5 | EY19: 25.05.15
EY20: (17개월)
A21: 마감공사 | EY21: 24.07.01~
BK22: 1 | BO22: =BK22+1 -> 2 | BS22: =BO22+1 -> 3 | BW22: =BS22+1 -> 4 | CA22: =BW22+1 -> 5 | CE22: =CA22+1 -> 6 | CI22: =CE22+1 -> 7 | CM22: =CI22+1 -> 8 | CQ22: =CM22+1 -> 9 | CY22: 11 | DC22: =CY22+1 -> 12 | DG22: =DC22+1 -> 13 | DK22: =DG22+1 -> 14 | DO22: =DK22+1 -> 15 | DS22: =DO22+1 -> 16 | DW22: =DS22+1 -> 17 | EA22: =DW22+1 -> 18 | EE22: =EA22+1 -> 19 | EI22: =EE22+1 -> 20 | EM22: =EI22+1 -> 21 | EQ22: =EM22+1 -> 22 | EY22: 26.05.15
EY23: (22.5개월)
A24: 기계 | EY24: 23.11.15~
AI25: 1.5 | AM25: =AI25+1 -> 2.5 | AQ25: =AM25+1 -> 3.5 | AU25: =AQ25+1 -> 4.5 | AY25: =AU25+1 -> 5.5 | BC25: =AY25+1 -> 6.5 | BG25: =BC25+1 -> 7.5 | BK25: =BG25+1 -> 8.5 | BO25: =BK25+1 -> 9.5 | BS25: =BO25+1 -> 10.5 | BW25: =BS25+1 -> 11.5 | CA25: =BW25+1 -> 12.5 | CE25: =CA25+1 -> 13.5 | CI25: =CE25+1 -> 14.5 | CM25: =CI25+1 -> 15.5 | CQ25: =CM25+1 -> 16.5 | CU25: =CQ25+1 -> 17.5 | CY25: =CU25+1 -> 18.5 | DC25: =CY25+1 -> 19.5 | DG25: =DC25+1 -> 20.5 | DK25: =DG25+1 -> 21.5 | DO25: =DK25+1 -> 22.5 | DS25: =DO25+1 -> 23.5 | DW25: =DS25+1 -> 24.5 | EA25: =DW25+1 -> 25.5 | EE25: =EA25+1 -> 26.5 | EI25: =EE25+1 -> 27.5 | EM25: =EI25+1 -> 28.5 | EQ25: =EM25+1 -> 29.5 | EY25: 26.05.15
EY26: (30개월)
A27: 전기/통신 | EY27: 23.11.15~
AI28: 1.5 | AM28: =AI28+1 -> 2.5 | AQ28: =AM28+1 -> 3.5 | AU28: =AQ28+1 -> 4.5 | AY28: =AU28+1 -> 5.5 | BC28: =AY28+1 -> 6.5 | BG28: =BC28+1 -> 7.5 | BK28: =BG28+1 -> 8.5 | BO28: =BK28+1 -> 9.5 | BS28: =BO28+1 -> 10.5 | BW28: =BS28+1 -> 11.5 | CA28: =BW28+1 -> 12.5 | CE28: =CA28+1 -> 13.5 | CI28: =CE28+1 -> 14.5 | CM28: =CI28+1 -> 15.5 | CQ28: =CM28+1 -> 16.5 | CU28: =CQ28+1 -> 17.5 | CY28: =CU28+1 -> 18.5 | DC28: =CY28+1 -> 19.5 | DG28: =DC28+1 -> 20.5 | DK28: =DG28+1 -> 21.5 | DO28: =DK28+1 -> 22.5 | DS28: =DO28+1 -> 23.5 | DW28: =DS28+1 -> 24.5 | EA28: =DW28+1 -> 25.5 | EE28: =EA28+1 -> 26.5 | EI28: =EE28+1 -> 27.5 | EM28: =EI28+1 -> 28.5 | EQ28: =EM28+1 -> 29.5 | EY28: 26.05.15
EY29: (30개월)
A30: 소방 | EY30: 23.11.15~
AI31: 1.5 | AM31: =AI31+1 -> 2.5 | AQ31: =AM31+1 -> 3.5 | AU31: =AQ31+1 -> 4.5 | AY31: =AU31+1 -> 5.5 | BC31: =AY31+1 -> 6.5 | BG31: =BC31+1 -> 7.5 | BK31: =BG31+1 -> 8.5 | BO31: =BK31+1 -> 9.5 | BS31: =BO31+1 -> 10.5 | BW31: =BS31+1 -> 11.5 | CA31: =BW31+1 -> 12.5 | CE31: =CA31+1 -> 13.5 | CI31: =CE31+1 -> 14.5 | CM31: =CI31+1 -> 15.5 | CQ31: =CM31+1 -> 16.5 | CU31: =CQ31+1 -> 17.5 | CY31: =CU31+1 -> 18.5 | DC31: =CY31+1 -> 19.5 | DG31: =DC31+1 -> 20.5 | DK31: =DG31+1 -> 21.5 | DO31: =DK31+1 -> 22.5 | DS31: =DO31+1 -> 23.5 | DW31: =DS31+1 -> 24.5 | EA31: =DW31+1 -> 25.5 | EE31: =EA31+1 -> 26.5 | EI31: =EE31+1 -> 27.5 | EM31: =EI31+1 -> 28.5 | EQ31: =EM31+1 -> 29.5 | EY31: 26.05.15
EY32: (30개월)
